BEGIN:VCALENDAR
VERSION:2.0
PRODID:-//hacksw/handcal//NONSGML v1.0//EN
BEGIN:VEVENT
SUMMARY:Finale du Challenge 54 Bernard Louis
UID:38b05e31-660b-4745-8fcc-d8abef72be89
DTSTART:20260411T110000Z
DTEND:20260411T150000Z
LOCATION:Localisation  54110 DOMSBALE
CATEGORIES:Manifestation
STATUS:
URL;VALUE=URI:https://archersdevarangeville.sportsregions.fr/evenements/2026/04/11/finale-du-challenge-54-bernard-louis-2426538
END:VEVENT
END:VCALENDAR
