BEGIN:VCALENDAR
VERSION:2.0
PRODID:-//hacksw/handcal//NONSGML v1.0//EN
BEGIN:VEVENT
SUMMARY:INITIATION GRATUITE SPECIAL FEMME
UID:6139c81b-90f5-4b7e-aefe-76671d393080
DTSTART:20260403T181500Z
DTEND:20260403T201500Z
LOCATION:Localisation SALLE DES SPORTS 54110 VARANGEVILLE
CATEGORIES:Manifestation
STATUS:
DESCRIPTION:<p>Soiree initiation gratuite pour les femmes a partir de
 7 ans </p>
 
 <p>Decouverte du tir a l'arc suivie d'un
 jeu </p>
 
 <p>Un pot de l'amitiee cloturera cette
 soiree </p>
 
 <p> </p>
 
 <p>RESERVATION OBLIGATOIRE 06 26 44 19
 42</p>
URL;VALUE=URI:https://archersdevarangeville.sportsregions.fr/evenements/2026/04/03/initiation-gratuite-special-femme-2425776
END:VEVENT
END:VCALENDAR
