BEGIN:VCALENDAR
VERSION:2.0
PRODID:-//hacksw/handcal//NONSGML v1.0//EN
BEGIN:VEVENT
SUMMARY:INITIATION GRATUITE SPECIAL FEMME
UID:2fc0f178-b88a-4923-8e73-c851e66addf0
DTSTART:20260327T191500Z
DTEND:20260327T211500Z
LOCATION:Localisation SALLE DES SPORTS 54110 VARANGEVILLE
CATEGORIES:Manifestation
STATUS:
DESCRIPTION:<p>Soiree initiation gratuite pour les femmes a partir de
 7 ans </p>
 
 <p>Decouverte du tir a l'arc suivie d'un
 jeu </p>
 
 <p>Un pot de l'amitiee cloturera cette
 soiree </p>
 
 <p> </p>
 
 <p>RESERVATION OBLIGATOIRE 06 26 44 19
 42</p>
URL;VALUE=URI:https://archersdevarangeville.sportsregions.fr/evenements/2026/03/27/initiation-gratuite-special-femme-2425773
END:VEVENT
END:VCALENDAR
