BEGIN:VCALENDAR
VERSION:2.0
PRODID:-//hacksw/handcal//NONSGML v1.0//EN
BEGIN:VEVENT
SUMMARY:Challenge 54 Bernard Louis
UID:1a156731-ace1-4d12-a5b3-51c99cf0f782
DTSTART:20260320T191500Z
DTEND:20260320T213000Z
LOCATION:Salle des sports Varangeville  Rue Nelson Mandela  54110 Varangeville
CATEGORIES:Manifestation
STATUS:
URL;VALUE=URI:https://archersdevarangeville.sportsregions.fr/evenements/2026/03/20/challenge-54-bernard-louis-2426537
END:VEVENT
END:VCALENDAR
