BEGIN:VCALENDAR
VERSION:2.0
PRODID:-//hacksw/handcal//NONSGML v1.0//EN
BEGIN:VEVENT
SUMMARY:AG ANNUELLE  2015
UID:ca817113-c380-4786-b7f3-15a3b6e724ac
DTSTART:20260313T193000Z
DTEND:20260313T213000Z
LOCATION:Localisation SALLE DES SPORTS 54110 VARANGEVILLE
CATEGORIES:Administratif
STATUS:
URL;VALUE=URI:https://archersdevarangeville.sportsregions.fr/evenements/2026/03/13/ag-annuelle-2015-2425769
END:VEVENT
END:VCALENDAR
